BEGIN:VCALENDAR
VERSION:2.0
PRODID:-//Olive Crest - ECPv6.15.18//NONSGML v1.0//EN
CALSCALE:GREGORIAN
METHOD:PUBLISH
X-ORIGINAL-URL:https://www.olivecrest.org
X-WR-CALDESC:Events for Olive Crest
REFRESH-INTERVAL;VALUE=DURATION:PT1H
X-Robots-Tag:noindex
X-PUBLISHED-TTL:PT1H
BEGIN:VTIMEZONE
TZID:UTC
BEGIN:STANDARD
TZOFFSETFROM:+0000
TZOFFSETTO:+0000
TZNAME:UTC
DTSTART:20220101T000000
END:STANDARD
END:VTIMEZONE
BEGIN:VEVENT
DTSTART;TZID=UTC:20230414T113000
DTEND;TZID=UTC:20230414T130000
DTSTAMP:20260421T180948
CREATED:20230222T024740Z
LAST-MODIFIED:20230324T054603Z
UID:16812-1681471800-1681477200@www.olivecrest.org
SUMMARY:Power of One Luncheon  |  Las Vegas
DESCRIPTION:Join Olive Crest for our Power of One Luncheon celebrating Truth\, Grace\, and Servanthood.
URL:https://www.olivecrest.org/calendar/power-of-one-luncheon-las-vegas/
LOCATION:Ahern Hotel\, 300 W Sahara Ave\, Las Vegas\, NV\, 89102
CATEGORIES:Nevada
ATTACH;FMTTYPE=image/png:https://www.olivecrest.org/wp-content/uploads/2023/02/Classy-Donation-Page-Background-Image-12.png
ORGANIZER;CN="Velina Dechawan":MAILTO:Velina-Dechawan@olivecrest.org
END:VEVENT
END:VCALENDAR